BEGIN:VCALENDAR
VERSION:2.0
PRODID:-//Riehm Produce Farm - ECPv6.15.20//NONSGML v1.0//EN
CALSCALE:GREGORIAN
METHOD:PUBLISH
X-WR-CALNAME:Riehm Produce Farm
X-ORIGINAL-URL:https://funacres.net
X-WR-CALDESC:Events for Riehm Produce Farm
REFRESH-INTERVAL;VALUE=DURATION:PT1H
X-Robots-Tag:noindex
X-PUBLISHED-TTL:PT1H
BEGIN:VTIMEZONE
TZID:UTC
BEGIN:STANDARD
TZOFFSETFROM:+0000
TZOFFSETTO:+0000
TZNAME:UTC
DTSTART:20200101T000000
END:STANDARD
END:VTIMEZONE
BEGIN:VEVENT
DTSTART;TZID=UTC:20210301T100000
DTEND;TZID=UTC:20210507T140000
DTSTAMP:20260421T151241
CREATED:20210427T194336Z
LAST-MODIFIED:20210528T221943Z
UID:4255-1614592800-1620396000@funacres.net
SUMMARY:Mother's Day Brunch Basket
DESCRIPTION:Join us Friday May 7th\, 2021 from 6:30-7:30pm for our Customized Mother’s Day Brunch Basket. \nRiehm Produce Farm has released a NEW mother’s day BRUNCH BOX. Mix and match to build the perfect brunch to celebrate the mother’s in your life!  \nWe’ve curated the cream of the crop – eggs from Anderson Farm\, sausage from Riehm Produce Farm and fresh spring veggies for the perfect frittata\, and the most heavenly maple syrup from Brundage farm.  \nMake sure to preorder before Tuesday May 4 at 12:00 (noon). Secure yours today!  \nAnd don’t forget to leave a treat for later so she will know she is appreciated all day long- Bella Cuisine is baking and we have a beautiful dessert box with mom’s name all over it.  \nPick up is at the farm on Friday May 7 from 6:00-7:30 PM \nhttps://www.harvie.farm/farm/riehm-produce-farm/shop \n  \n  \n 
URL:https://funacres.net/event/brunchbasket/
LOCATION:Riehm Produce Farm\, LLC\, 7244 N State Route 53\, Tiffin\, OH\, 44883\, United States
ATTACH;FMTTYPE=image/jpeg:https://funacres.net/wp-content/uploads/2021/04/Mothers-Day-Brunch.jpg
END:VEVENT
END:VCALENDAR